BEGIN:VCALENDAR
VERSION:2.0
PRODID:-//The People Speak - ECPv4.6.11//NONSGML v1.0//EN
CALSCALE:GREGORIAN
METHOD:PUBLISH
X-WR-CALNAME:The People Speak
X-ORIGINAL-URL:https://thepeoplespeak.org.uk
X-WR-CALDESC:Events for The People Speak
BEGIN:VEVENT
DTSTART;TZID=UTC+0:20250813T170000
DTEND;TZID=UTC+0:20250813T200000
DTSTAMP:20260419T141123
CREATED:20250711T152631Z
LAST-MODIFIED:20250808T103515Z
UID:7716-1755104400-1755115200@thepeoplespeak.org.uk
SUMMARY:Women's Sound Circle - Aberfeldy Stories
DESCRIPTION:\nWomen’s Sound      ⃝   Circle\nReconnect with your voice ▷ No experience needed\n\nJoin this women’s only event to share songs\, melodies and stories with singer-songwriter Jo Elise. Together we will explore your creative voice in a safe\, female-led environment.\n\nFrom gentle vocal warm-ups to learning simple harmonies you will take part in creating the unique Aberfeldy Anthem\, which will premiere in September.\n\nWednesday 13th August\, 5-7:30pm\nMeeting at The People Speak studio\, 27 Aberfeldy Street\, E14 0NU\, then together walk to Republic London\, enjoying the nearby gardens\, biodiverse waterfalls\, and lakeside seating create the perfect backdrop for relaxing\, socialising\, and reflecting.\n \n\nInterested in finding out more and joining? \nContact Margot on 07812439548\, margot@thepeoplespeak.org.uk\nPhoto of Ami and Kim from Aberfeldy Stories. \n
URL:https://thepeoplespeak.org.uk/event/womens-sound-circle-aberfeldy-stories/
LOCATION:27 Aberfeldy Street\, London\, E14 0NU\, United Kingdom
ATTACH;FMTTYPE=image/jpeg:https://thepeoplespeak.org.uk/wp-content/uploads/2025/07/54630791301_717ebc9061_k.jpg
END:VEVENT
END:VCALENDAR