BEGIN:VCALENDAR
VERSION:2.0
PRODID:-//The People Speak - ECPv4.6.11//NONSGML v1.0//EN
CALSCALE:GREGORIAN
METHOD:PUBLISH
X-WR-CALNAME:The People Speak
X-ORIGINAL-URL:https://thepeoplespeak.org.uk
X-WR-CALDESC:Events for The People Speak
BEGIN:VEVENT
DTSTART;TZID=UTC+0:20200927T140000
DTEND;TZID=UTC+0:20200927T170000
DTSTAMP:20260419T163521
CREATED:20200908T125011Z
LAST-MODIFIED:20200909T092256Z
UID:5084-1601215200-1601226000@thepeoplespeak.org.uk
SUMMARY:Wick Speaks! Tour x Talkaoke
DESCRIPTION:What should people know about Hackney Wick? You decide! \nDates: Sun 27 Sep\, 2PM Talkaoke \nLocation: Felstead Street / Prince Edward Road by the shops  \nFree event\, join Talkaoke:  \n\nin person – no booking required\, just come \n\n\nas an online participant via Zoom – follow registration link here\n\n\nwatch and comment on Facebook\n\nWick Speaks! is a new project bringing together a range of Hackney Wick residents to create the Tour of the area through their eyes. \nThe People Speak is collaborating with long-time local guide Hackney Tours to celebrate the diversity of the Wick and imagine the future of this unique and ever-changing place. \nOn Sun 27 Sep we will bring Talkaoke – our live talk show – to the streets of Hackney Wick. Combining our socially distant live and online approach\, we invite participants to join the conversation about the Wick\, share their personal stories both past and present\, and create the Wick Speaks! Tour of the area. \nThe Tour Launch\, led by Hackney Tours and some of the local residents\, will take place on Sat 17 Oct. \nRead a full press release about Wick Speaks! Tour here <link coming soon> \nHackney Tours is an ongoing experiment in sustainable socially-minded travel & tourism. Founder Simon Cole shares plane-free wonder on our doorstep with hyper-local ‘slow travel’ walks. They connect the area’s radical campaigning history to its contemporary arts and activist culture\, asking what future East London we want https://hackneytours.com \nThe People Speak is a collective of international arts practitioners based in East London\, founded 23 years ago. We use performance art\, multi-media and technology to stimulate discussion\, generate ideas\, and inform decision making in the public and cultural sphere through fun\, interactive format in the UK and globally. Talkaoke is a live\, television-style talk show popping out at festivals\, clubs\, galleries\, conferences\, on the street and online http://thepeoplespeak.org.uk \nWick Speaks! is funded by Wick Together – the Mayor of London’s Creative Enterprise Zone\, and will enable us to employ and upskill some E9 freelancers who had been hit by the impact of the coronavirus pandemic. \nWick Together funded through the Mayor of London’s Creative Enterprise Zone programme and managed jointly by Hackney Council\, Tower Hamlets Council and the London Legacy Development Corporation – will upskill the local creative community to deliver training and courses that improve social cohesion\, support local businesses and help residents develop creative skills http://www.hwfi.zone/wick-together \nRead about other projects awarded the Mayor of London’s Creative Enterprise Zone funding here \n \n
URL:https://thepeoplespeak.org.uk/event/wick-speaks/
CATEGORIES:Talkaoke
ATTACH;FMTTYPE=image/jpeg:https://thepeoplespeak.org.uk/wp-content/uploads/2020/09/Wick-Speaks-small.jpg
END:VEVENT
END:VCALENDAR