BEGIN:VCALENDAR
VERSION:2.0
PRODID:-//The People Speak - ECPv4.6.11//NONSGML v1.0//EN
CALSCALE:GREGORIAN
METHOD:PUBLISH
X-WR-CALNAME:The People Speak
X-ORIGINAL-URL:https://thepeoplespeak.org.uk
X-WR-CALDESC:Events for The People Speak
BEGIN:VEVENT
DTSTART;TZID=UTC+0:20140626T191500
DTEND;TZID=UTC+0:20140626T221500
DTSTAMP:20260425T174259
CREATED:20140602T135705Z
LAST-MODIFIED:20140609T132403Z
UID:3666-1403810100-1403820900@thepeoplespeak.org.uk
SUMMARY:'Who Wants to Be..?' Lift Festival 2014 - Change for a tenner!
DESCRIPTION:‘Lift throws open a window to the world\, bringing global stories to London and transforming the city into a stage…’ \nThroughout the festival The People Speak will be running\, or working on\, various events. They are hosted by the likes of Amy Lamé and other London notables. Mikey and Zsolti will be at each\, knocking up instant visualisations and harvesting ideas for the concluding Who Wants to Be…? session on 26th June. \n \nChange for a tenner!\nRevolutionary gameshow and series finale with The People Speak \nThink you have an idea for change? A new political party\, a radical campaign\, a revolutionary proposition\, a life-changing art project\, a new haircut….? Or just enjoy finding out what gobsmackingly brilliant or bonkers things other people want to make happen. Then you want to be at Change for A Tenner finale – a dangerously spontaneous gameshow where the audience has all the answers\, makes up all the questions and the rules. We’ll put up the proceeds from the box office for the audience to decide how to spend it – by suggesting ideas\, having a raucous debate and voting. Or you might decide to gamble it or destroy it. It’s up to you. If 100 people come then we’ll have £1000 to give away (we’ll throw in the extra quid to make it up from £999)…the more people who come\, the more money’s on the table. Organised by Mikey Weinkove and The People Speak who will be present at all of the previous five shows. \nPurchase your ticket now! \n
URL:https://thepeoplespeak.org.uk/event/who-wants-to-be-lift-festival-2014-change-for-a-tenner/
LOCATION:380 Old St\, London\, EC1V 9LT \, United Kingdom
CATEGORIES:Who Wants to Be
ATTACH;FMTTYPE=image/jpeg:https://thepeoplespeak.org.uk/wp-content/uploads/2014/06/wwtb-lift.jpg
END:VEVENT
END:VCALENDAR