BEGIN:VCALENDAR
VERSION:2.0
PRODID:-//The People Speak - ECPv4.6.11//NONSGML v1.0//EN
CALSCALE:GREGORIAN
METHOD:PUBLISH
X-WR-CALNAME:The People Speak
X-ORIGINAL-URL:https://thepeoplespeak.org.uk
X-WR-CALDESC:Events for The People Speak
BEGIN:VEVENT
DTSTART;VALUE=DATE:20190726
DTEND;VALUE=DATE:20190729
DTSTAMP:20260419T205939
CREATED:20190822T123723Z
LAST-MODIFIED:20190822T123723Z
UID:4642-1564099200-1564358399@thepeoplespeak.org.uk
SUMMARY:Talkaoke: Deer Shed Festival 10
DESCRIPTION:Talkaoke returned to celebrate a decade of Deer Shed\, as we set up the table of chat for the 10th edition of the Yorkshire festival. \n \n
URL:https://thepeoplespeak.org.uk/event/talkaokedeershedfestival10/
CATEGORIES:Past Events,Talkaoke
ATTACH;FMTTYPE=image/jpeg:https://thepeoplespeak.org.uk/wp-content/uploads/2019/08/DSF10_full_13-jun.jpg
END:VEVENT
END:VCALENDAR