BEGIN:VCALENDAR
VERSION:2.0
PRODID:-//The People Speak - ECPv4.6.11//NONSGML v1.0//EN
CALSCALE:GREGORIAN
METHOD:PUBLISH
X-WR-CALNAME:The People Speak
X-ORIGINAL-URL:https://thepeoplespeak.org.uk
X-WR-CALDESC:Events for The People Speak
BEGIN:VEVENT
DTSTART;TZID=UTC+0:20190509T180000
DTEND;TZID=UTC+0:20190509T220000
DTSTAMP:20260420T013702
CREATED:20190514T160628Z
LAST-MODIFIED:20190514T160628Z
UID:4594-1557424800-1557439200@thepeoplespeak.org.uk
SUMMARY:Talkaoke: The Tommy Flowers Pub 9 (and a half)
DESCRIPTION:We did a special training session Talkaoke at the Tommy Flowers Pub where we tried out some potential future Talkaoke hosts. \n \nClick here to view photos \n
URL:https://thepeoplespeak.org.uk/event/talkaoke_the_tommy_flowers_pub_9_5/
LOCATION:50 Aberfeldy Street\, London\, E14 0NU\, United Kingdom
CATEGORIES:Past Events,Talkaoke
ATTACH;FMTTYPE=image/jpeg:https://thepeoplespeak.org.uk/wp-content/uploads/2019/05/IMG_2360_small.jpg
END:VEVENT
END:VCALENDAR