BEGIN:VCALENDAR
VERSION:2.0
PRODID:-//The People Speak - ECPv4.6.11//NONSGML v1.0//EN
CALSCALE:GREGORIAN
METHOD:PUBLISH
X-WR-CALNAME:The People Speak
X-ORIGINAL-URL:https://thepeoplespeak.org.uk
X-WR-CALDESC:Events for The People Speak
BEGIN:VEVENT
DTSTART;VALUE=DATE:20170922
DTEND;VALUE=DATE:20170923
DTSTAMP:20260424T100611
CREATED:20171003T155630Z
LAST-MODIFIED:20171020T150955Z
UID:4263-1506038400-1506124799@thepeoplespeak.org.uk
SUMMARY:Talkaoke: Liverpool Psych Fest 2017
DESCRIPTION:Talkaoke was at Liverpool International Festival of Psychedelia 2017 for two days of fun\, chat and discussion about the world of psychedelia and much more. \nView the video Playlist below \n \n
URL:https://thepeoplespeak.org.uk/event/talkaoke_liverpool_pysch_fest/
CATEGORIES:Past Events,Talkaoke
ATTACH;FMTTYPE=image/png:https://thepeoplespeak.org.uk/wp-content/uploads/2017/10/logo_2017.png
END:VEVENT
END:VCALENDAR