BEGIN:VCALENDAR
VERSION:2.0
PRODID:-//The People Speak - ECPv4.6.11//NONSGML v1.0//EN
CALSCALE:GREGORIAN
METHOD:PUBLISH
X-WR-CALNAME:The People Speak
X-ORIGINAL-URL:https://thepeoplespeak.org.uk
X-WR-CALDESC:Events for The People Speak
BEGIN:VEVENT
DTSTART;VALUE=DATE:20171108
DTEND;VALUE=DATE:20171109
DTSTAMP:20260420T062725
CREATED:20171113T155003Z
LAST-MODIFIED:20171113T155003Z
UID:4284-1510099200-1510185599@thepeoplespeak.org.uk
SUMMARY:Talkaoke: College of North West London
DESCRIPTION:Talkaoke visited College of North West London in Brent to chat to students\, tutors and staff about art and culture in the borough and what makes Brent special. \nClick here to view Rick’s visuals of the conversation \n  \n \n
URL:https://thepeoplespeak.org.uk/event/talkaoke_cnwl/
ATTACH;FMTTYPE=image/jpeg:https://thepeoplespeak.org.uk/wp-content/uploads/2017/11/9-north-westenders-e1510588137948.jpg
END:VEVENT
END:VCALENDAR