BEGIN:VCALENDAR
VERSION:2.0
PRODID:-//The People Speak - ECPv4.6.11//NONSGML v1.0//EN
CALSCALE:GREGORIAN
METHOD:PUBLISH
X-WR-CALNAME:The People Speak
X-ORIGINAL-URL:https://thepeoplespeak.org.uk
X-WR-CALDESC:Events for The People Speak
BEGIN:VEVENT
DTSTART;TZID=UTC+0:20220622T093000
DTEND;TZID=UTC+0:20220622T170000
DTSTAMP:20260420T083511
CREATED:20220527T193342Z
LAST-MODIFIED:20220914T133528Z
UID:5974-1655890200-1655917200@thepeoplespeak.org.uk
SUMMARY:Unlecture x School of Activism
DESCRIPTION:We are collaborating with Creative Wick on the School of Activism\, part of London Festival of Architecture – a day of presentations\, workshops\, talks and debate about youth centred neighbourhood activism\, starting from 9:30am. \nJoin us in the afternoon from 2:30pm at the Atrium in Hackney Wick\, where we bring our Unlecture format to stimulate a discussion about what is effective neighbourhood activism\, how to be an effective activist\, how to build networks\, showcase successful neighbourhood activism campaigns and anything in between! \nParticipation is free – just book your space via Eventbrite. \n \n			\n			\n			\n				\n				\n				‹\n				›\n				×\n				\n				\n				\n					\n						\n							\n								×\n								\n							\n							\n							\n								\n									\n									Previous								\n								\n									Next									\n								\n							\n						\n					\n				\n			\n			\n			jQuery(function() {\n				// Set blueimp gallery options\n				jQuery.extend(blueimp.Gallery.prototype.options\, {\n					useBootstrapModal: false\,\n					hidePageScrollbars: false\n				});\n			});\n			\n			\n
URL:https://thepeoplespeak.org.uk/event/talkaoke-x-school-of-activism/
CATEGORIES:Past Events,Talkaoke,Unlecture
ATTACH;FMTTYPE=image/jpeg:https://thepeoplespeak.org.uk/wp-content/uploads/2022/05/51376630829_3f0eb4c018_k.jpg
END:VEVENT
END:VCALENDAR