BEGIN:VCALENDAR
VERSION:2.0
PRODID:-//The People Speak - ECPv4.6.11//NONSGML v1.0//EN
CALSCALE:GREGORIAN
METHOD:PUBLISH
X-WR-CALNAME:The People Speak
X-ORIGINAL-URL:https://thepeoplespeak.org.uk
X-WR-CALDESC:Events for The People Speak
BEGIN:VEVENT
DTSTART;TZID=UTC+0:20230126T183000
DTEND;TZID=UTC+0:20230126T213000
DTSTAMP:20260419T221818
CREATED:20230110T181445Z
LAST-MODIFIED:20230223T111448Z
UID:6388-1674757800-1674768600@thepeoplespeak.org.uk
SUMMARY:Talkaoke x Explorers Night at Natural History Museum
DESCRIPTION:\n\n\n\nHow do you feel about your relationship with nature? Everyone should feel welcome to discover the wonders of our world\, but for many people the reality is much more complex. Obstacles to enjoying nature often come from how society treats race and other aspects of what makes us who we are. \nWe’ve brought together scientists\, creatives and activists of colour to create experiences inspired by our power to define\, create and explore our complicated relationships with nature. \nCome and share fears and joys\, find out how community between people means community with nature and learn how we can all stand together to create a bright future for people and planet. \nAfter all\, environmental justice is racial justice. \n\nJoin us for Talkaoke – an interactive pop-up talkshow\, where you\, the participants\, set the agenda. \n \n\n  \n \n			\n			\n			\n				\n				\n				‹\n				›\n				×\n				\n				\n				\n					\n						\n							\n								×\n								\n							\n							\n							\n								\n									\n									Previous								\n								\n									Next									\n								\n							\n						\n					\n				\n			\n			\n			jQuery(function() {\n				// Set blueimp gallery options\n				jQuery.extend(blueimp.Gallery.prototype.options\, {\n					useBootstrapModal: false\,\n					hidePageScrollbars: false\n				});\n			});\n			\n			\n\n\n\n\n
URL:https://thepeoplespeak.org.uk/event/talkaoke-x-explorers-night-at-natural-history-museum/
LOCATION:Cromwell Road\, London\, SW7 5BD\, United Kingdom
CATEGORIES:Past Events,Talkaoke
ATTACH;FMTTYPE=image/jpeg:https://thepeoplespeak.org.uk/wp-content/uploads/2023/01/Artboard-1.jpg
END:VEVENT
END:VCALENDAR