BEGIN:VCALENDAR
VERSION:2.0
PRODID:-//The People Speak - ECPv4.6.11//NONSGML v1.0//EN
CALSCALE:GREGORIAN
METHOD:PUBLISH
X-WR-CALNAME:The People Speak
X-ORIGINAL-URL:https://thepeoplespeak.org.uk
X-WR-CALDESC:Events for The People Speak
BEGIN:VEVENT
DTSTART;TZID=UTC+0:20231016T123000
DTEND;TZID=UTC+0:20231016T180000
DTSTAMP:20260419T143216
CREATED:20230901T120827Z
LAST-MODIFIED:20231006T142635Z
UID:6810-1697459400-1697479200@thepeoplespeak.org.uk
SUMMARY:Talkaoke x appliedAI - Munich\, Germany
DESCRIPTION:Welcome to Talkaoke at appliedAI Ecosystem Meetup on Trustworthy AI. This is our first collaboration with appliedAI in Munich\, Germany. Their purpose is to advance Europe’s industry to compete in the age of AI\, shaping a future that we desire to live in. More about appliedAI’s philosophy here. \nWhat is Talkaoke?\nTalkaoke is an interactive talk-show\, where the participants decide on the subjects. Each discussion is a journey from one unexpected subject to another: it can be topical\, funny\, deep\, surreal\, and everything in between. The format is simple: the Talkaoke host sits in the middle of a doughnut-shaped table and passes the mic around\, inviting contributions and comments from each participant. Talkaoke host stimulates the collective imagination of the participants by expertly linking themes and opposing points of the conversation. Talkaoke is a great way to hear the latest ideas people are excited about and creatively develop new ones. \nAbout Trustworth AI\n“Trustworthy AI” is lawful\, ethical and robust. At the appliedAI Ecosystem Meetup\, we will look at Trustworthy AI from different angles\, and discuss avenues for operationalisation in order to accelerate trustworthy AI at scale\, while enabling innovation within the emerging regulatory framework. We will be bringing our European Talkaoke talk show to help participants connect and exchange new ideas. \nBook your free ticket via this link.\n  \n \n  \n
URL:https://thepeoplespeak.org.uk/event/talkaoke-x-appliedai-munich/
ATTACH;FMTTYPE=image/jpeg:https://thepeoplespeak.org.uk/wp-content/uploads/2023/09/53183054345_42fb0f1fba_c.jpg
END:VEVENT
END:VCALENDAR