BEGIN:VCALENDAR
VERSION:2.0
PRODID:-//The People Speak - ECPv4.6.11//NONSGML v1.0//EN
CALSCALE:GREGORIAN
METHOD:PUBLISH
X-WR-CALNAME:The People Speak
X-ORIGINAL-URL:https://thepeoplespeak.org.uk
X-WR-CALDESC:Events for The People Speak
BEGIN:VEVENT
DTSTART;TZID=UTC+0:20180217T110000
DTEND;TZID=UTC+0:20180217T170000
DTSTAMP:20260420T014448
CREATED:20180202T201650Z
LAST-MODIFIED:20180202T203517Z
UID:4302-1518865200-1518886800@thepeoplespeak.org.uk
SUMMARY:Talkaoke: White Heat\, Brighton Science Festival
DESCRIPTION:Talkaoke is visiting the south coast for ‘White Heat’ at Sallis Benney Theatre\, part of the Brighton Science Festival. We will also be visualising the conversation throughout the day.  The event is Ages 11+ \nFor more information on the event and to buy tickets please visit: www.brightonscience.com/events/white-heat/ \n
URL:https://thepeoplespeak.org.uk/event/talkaoke-white-heat-brighton-science-festival/
LOCATION:58-67 Grand Parade\, Brighton\, BN2 0JY\, United Kingdom
CATEGORIES:Talkaoke
ATTACH;FMTTYPE=image/jpeg:https://thepeoplespeak.org.uk/wp-content/uploads/2018/02/www.visitbrighton.com_.jpg
END:VEVENT
END:VCALENDAR