BEGIN:VCALENDAR
VERSION:2.0
PRODID:-//The People Speak - ECPv4.6.11//NONSGML v1.0//EN
CALSCALE:GREGORIAN
METHOD:PUBLISH
X-WR-CALNAME:The People Speak
X-ORIGINAL-URL:https://thepeoplespeak.org.uk
X-WR-CALDESC:Events for The People Speak
BEGIN:VEVENT
DTSTART;VALUE=DATE:20150220
DTEND;VALUE=DATE:20150221
DTSTAMP:20260424T234700
CREATED:20150120T122710Z
LAST-MODIFIED:20150226T180553Z
UID:3789-1424390400-1424476799@thepeoplespeak.org.uk
SUMMARY:Talkaoke: The Wolsey Art Gallery
DESCRIPTION:Salisbury Cathedral from the Meadows 1831\nJohn Constable (1776 – 1837)\nPhotograph © Tate\, London 2013 \nAs part of a five year tour of Constable’s Salisbury Cathedral from the Meadows 1831\, Talkaoke was in the Constable Gallery of The Wolsey Art Gallery\, Ipswich\, talking to visitors and groups about the artist Constable as well many other topics. \nThis event was part of Aspire\, a partnership programme touring Salisbury Cathedral from the Meadows 1831 to five UK institutions. Aspire is supported by the Heritage Lottery Fund and the Art Fund. \nClick Here to watch the video \nClick Here to view the re-imaginings of the painting \n  \nAbout Salisbury Cathedral from the Meadows\nSalisbury Cathedral from the Meadows was purchased by Tate with assistance from the National Lottery through the Heritage Lottery Fund\, The Manton Foundation\, the Art Fund (with a contribution from the Wolfson Foundation) and Tate Members in partnership with Amgueddfa Cymru – National Museum Wales\, Colchester and Ipswich Museum Service\, National Galleries of Scotland\, and Salisbury and South Wiltshire Museum\, 2013. \nTo secure the painting\, a unique partnership initiative was formed between five public collections: Tate Britain\, Amgueddfa Cymru – National Museum Wales\, Colchester and Ipswich Museums\, Salisbury and South Wiltshire Museum and the National Galleries of Scotland. This initiative\, named Aspire\, is a five-year project supported by the Heritage Lottery Fund and the Art Fund enabling the work to be viewed in partner venues across the UK. National Museum Cardiff is the first venue to display the work. \n
URL:https://thepeoplespeak.org.uk/event/talkaoke-the-wolsey-art-gallery/
LOCATION:Christchurch Mansion\, Christchurch Park\, Ipswich\, United Kingdom
ATTACH;FMTTYPE=image/jpeg:https://thepeoplespeak.org.uk/wp-content/uploads/2014/08/Constable_Salisbury_meadows.jpg
END:VEVENT
END:VCALENDAR