BEGIN:VCALENDAR
VERSION:2.0
PRODID:-//The People Speak - ECPv4.6.11//NONSGML v1.0//EN
CALSCALE:GREGORIAN
METHOD:PUBLISH
X-WR-CALNAME:The People Speak
X-ORIGINAL-URL:https://thepeoplespeak.org.uk
X-WR-CALDESC:Events for The People Speak
BEGIN:VEVENT
DTSTART;TZID=UTC+0:20191121T190000
DTEND;TZID=UTC+0:20191121T230000
DTSTAMP:20260419T143357
CREATED:20191009T125951Z
LAST-MODIFIED:20191127T150339Z
UID:4684-1574362800-1574377200@thepeoplespeak.org.uk
SUMMARY:Talkaoke: The Tommy Flowers XIII
DESCRIPTION:Talkaoke was back at The Tommy Flowers Pub for another evening of drinks and conversation. \nClick here to view photos \n \n  \n
URL:https://thepeoplespeak.org.uk/event/talkaoke-the-tommy-flowers-xiii/
LOCATION:50 Aberfeldy Street\, London\, E14 0NU\, United Kingdom
CATEGORIES:Past Events,Talkaoke
ATTACH;FMTTYPE=image/jpeg:https://thepeoplespeak.org.uk/wp-content/uploads/2019/10/IMG_1635.jpg
END:VEVENT
END:VCALENDAR