BEGIN:VCALENDAR
VERSION:2.0
PRODID:-//The People Speak - ECPv4.6.11//NONSGML v1.0//EN
CALSCALE:GREGORIAN
METHOD:PUBLISH
X-WR-CALNAME:The People Speak
X-ORIGINAL-URL:https://thepeoplespeak.org.uk
X-WR-CALDESC:Events for The People Speak
BEGIN:VEVENT
DTSTART;TZID=UTC+0:20200326T190000
DTEND;TZID=UTC+0:20200326T220000
DTSTAMP:20260422T085013
CREATED:20200311T105525Z
LAST-MODIFIED:20200328T131028Z
UID:4782-1585249200-1585260000@thepeoplespeak.org.uk
SUMMARY:Tommy Flowers Talkaoke Session XV - Online
DESCRIPTION:\nWe are back at The Tommy Flowers Pub for our usual monthly Talkaoke session. This time online!\n\n  \n \n
URL:https://thepeoplespeak.org.uk/event/talkaoke-the-tommy-flowers-pub-xv/
LOCATION:50 Aberfeldy Street\, London\, E14 0NU\, United Kingdom
CATEGORIES:Past Events,Talkaoke
ATTACH;FMTTYPE=image/jpeg:https://thepeoplespeak.org.uk/wp-content/uploads/2020/03/talkaoke-tommy_flower-14.jpg
END:VEVENT
END:VCALENDAR