BEGIN:VCALENDAR
VERSION:2.0
PRODID:-//The People Speak - ECPv4.6.11//NONSGML v1.0//EN
CALSCALE:GREGORIAN
METHOD:PUBLISH
X-WR-CALNAME:The People Speak
X-ORIGINAL-URL:https://thepeoplespeak.org.uk
X-WR-CALDESC:Events for The People Speak
BEGIN:VEVENT
DTSTART;TZID=UTC+0:20180726T190000
DTEND;TZID=UTC+0:20180726T220000
DTSTAMP:20260419T170704
CREATED:20180710T110148Z
LAST-MODIFIED:20180802T101245Z
UID:4459-1532631600-1532642400@thepeoplespeak.org.uk
SUMMARY:Talkaoke: The Tommy Flowers Pub / Studio Session
DESCRIPTION:Talkaoke returned to The Tommy Flowers Pub on Aberfeldy Street for another evening of chat. \nCLICK HERE to view photos of the event \n  \n \n  \n
URL:https://thepeoplespeak.org.uk/event/talkaoke-the-tommy-flowers-pub-studio-session/
LOCATION:50 Aberfeldy Street\, London\, E14 0NU\, United Kingdom
CATEGORIES:Past Events,Talkaoke
ATTACH;FMTTYPE=image/jpeg:https://thepeoplespeak.org.uk/wp-content/uploads/2018/07/IMG_0014.jpg
END:VEVENT
END:VCALENDAR