BEGIN:VCALENDAR
VERSION:2.0
PRODID:-//The People Speak - ECPv4.6.11//NONSGML v1.0//EN
CALSCALE:GREGORIAN
METHOD:PUBLISH
X-WR-CALNAME:The People Speak
X-ORIGINAL-URL:https://thepeoplespeak.org.uk
X-WR-CALDESC:Events for The People Speak
BEGIN:VEVENT
DTSTART;TZID=UTC+0:20190228T190000
DTEND;TZID=UTC+0:20190228T220000
DTSTAMP:20260420T010547
CREATED:20190212T121533Z
LAST-MODIFIED:20190306T124128Z
UID:4552-1551380400-1551391200@thepeoplespeak.org.uk
SUMMARY:Talkaoke: The Tommy Flowers Pub #7
DESCRIPTION:Another fantastic evening of Talkaoke\, the pop-up talk show\, at ‘The Tommy Flowers‘ Pub in Poplar. \nClick here to view photos from the event \n \n
URL:https://thepeoplespeak.org.uk/event/talkaoke-the-tommy-flowers-pub-7/
LOCATION:50 Aberfeldy Street\, London\, E14 0NU\, United Kingdom
CATEGORIES:Past Events,Talkaoke
ATTACH;FMTTYPE=image/jpeg:https://thepeoplespeak.org.uk/wp-content/uploads/2019/02/IMG_1475-small.jpg
END:VEVENT
END:VCALENDAR