BEGIN:VCALENDAR
VERSION:2.0
PRODID:-//The People Speak - ECPv4.6.11//NONSGML v1.0//EN
CALSCALE:GREGORIAN
METHOD:PUBLISH
X-WR-CALNAME:The People Speak
X-ORIGINAL-URL:https://thepeoplespeak.org.uk
X-WR-CALDESC:Events for The People Speak
BEGIN:VEVENT
DTSTART;TZID=UTC+0:20190131T190000
DTEND;TZID=UTC+0:20190131T220000
DTSTAMP:20260419T233251
CREATED:20181211T151031Z
LAST-MODIFIED:20190206T125804Z
UID:4540-1548961200-1548972000@thepeoplespeak.org.uk
SUMMARY:Talkaoke: The Tommy Flowers Pub #6
DESCRIPTION:We returned to The Tommy Flowers pub for the first Talkaoke of 2019. \nClick here to view photos of the evening \n(Please note\, the first half of the video is unfortunately a bit dark) \n \n
URL:https://thepeoplespeak.org.uk/event/talkaoke-the-tommy-flowers-pub-6/
LOCATION:50 Aberfeldy Street\, London\, E14 0NU\, United Kingdom
CATEGORIES:Past Events,Talkaoke
ATTACH;FMTTYPE=image/jpeg:https://thepeoplespeak.org.uk/wp-content/uploads/2018/12/44300470270_9cca7a9be1_k.jpg
END:VEVENT
END:VCALENDAR