BEGIN:VCALENDAR
VERSION:2.0
PRODID:-//The People Speak - ECPv4.6.11//NONSGML v1.0//EN
CALSCALE:GREGORIAN
METHOD:PUBLISH
X-WR-CALNAME:The People Speak
X-ORIGINAL-URL:https://thepeoplespeak.org.uk
X-WR-CALDESC:Events for The People Speak
BEGIN:VEVENT
DTSTART;TZID=UTC+0:20181011T190000
DTEND;TZID=UTC+0:20181011T220000
DTSTAMP:20260419T184428
CREATED:20180928T153345Z
LAST-MODIFIED:20181022T104538Z
UID:4493-1539284400-1539295200@thepeoplespeak.org.uk
SUMMARY:Talkaoke: The Tommy Flowers Pub #4
DESCRIPTION:Talkaoke was once again at The Tommy Flowers Pub on Aberfeldy Street\, Poplar\, for another exciting evening of chat. \n \n
URL:https://thepeoplespeak.org.uk/event/talkaoke-the-tommy-flowers-pub-4/
LOCATION:50 Aberfeldy Street\, London\, E14 0NU\, United Kingdom
CATEGORIES:Past Events,Talkaoke
ATTACH;FMTTYPE=image/jpeg:https://thepeoplespeak.org.uk/wp-content/uploads/2018/08/tommy_flowers-1.jpg
END:VEVENT
END:VCALENDAR