BEGIN:VCALENDAR
VERSION:2.0
PRODID:-//The People Speak - ECPv4.6.11//NONSGML v1.0//EN
CALSCALE:GREGORIAN
METHOD:PUBLISH
X-WR-CALNAME:The People Speak
X-ORIGINAL-URL:https://thepeoplespeak.org.uk
X-WR-CALDESC:Events for The People Speak
BEGIN:VEVENT
DTSTART;TZID=UTC+0:20180906T190000
DTEND;TZID=UTC+0:20180906T220000
DTSTAMP:20260419T170946
CREATED:20180831T104725Z
LAST-MODIFIED:20180912T101418Z
UID:4477-1536260400-1536271200@thepeoplespeak.org.uk
SUMMARY:Talkaoke: The Tommy Flowers Pub #3
DESCRIPTION:Talkaoke once again returned to The Tommy Flowers Pub on Aberfeldy Street for it’s monthly studio session. \nPhotos of the event can be viewed on our flickr page \nUnfortunately due to an error the final thoughts for this session were not recorded. \n \n
URL:https://thepeoplespeak.org.uk/event/talkaoke-the-tommy-flowers-pub-3/
LOCATION:50 Aberfeldy Street\, London\, E14 0NU\, United Kingdom
CATEGORIES:Talkaoke
ATTACH;FMTTYPE=image/jpeg:https://thepeoplespeak.org.uk/wp-content/uploads/2018/08/tommy_flowers-1.jpg
END:VEVENT
END:VCALENDAR