BEGIN:VCALENDAR
VERSION:2.0
PRODID:-//The People Speak - ECPv4.6.11//NONSGML v1.0//EN
CALSCALE:GREGORIAN
METHOD:PUBLISH
X-WR-CALNAME:The People Speak
X-ORIGINAL-URL:https://thepeoplespeak.org.uk
X-WR-CALDESC:Events for The People Speak
BEGIN:VEVENT
DTSTART;TZID=UTC+0:20190530T180000
DTEND;TZID=UTC+0:20190530T220000
DTSTAMP:20260420T015927
CREATED:20190429T132725Z
LAST-MODIFIED:20190607T132010Z
UID:4577-1559239200-1559253600@thepeoplespeak.org.uk
SUMMARY:Talkaoke X - The Tommy Flowers Pub
DESCRIPTION:\nClick here to view the photos \nThe People Speak returned to The Tommy Flowers Pub\, for a special 10th TALKAOKE\, 75 years since Tommy’s codebreaking machine Colossus played a key role in the D-Day invasion and Normandy campaign on 6 June 1944. \nBletchley Park was the 10th secret Listening Station established in WW2\, giving the site its title ‘Station X’ and this is the tenth Talkaoke at The Tommy Flowers. \n\n \n\n\n
URL:https://thepeoplespeak.org.uk/event/talkaoke-the-tommy-flowers-pub-10/
LOCATION:50 Aberfeldy Street\, London\, E14 0NU\, United Kingdom
CATEGORIES:Past Events,Talkaoke
ATTACH;FMTTYPE=image/jpeg:https://thepeoplespeak.org.uk/wp-content/uploads/2019/04/Talkaoke21_5-1.jpg
END:VEVENT
END:VCALENDAR