BEGIN:VCALENDAR
VERSION:2.0
PRODID:-//The People Speak - ECPv4.6.11//NONSGML v1.0//EN
CALSCALE:GREGORIAN
METHOD:PUBLISH
X-WR-CALNAME:The People Speak
X-ORIGINAL-URL:https://thepeoplespeak.org.uk
X-WR-CALDESC:Events for The People Speak
BEGIN:VEVENT
DTSTART;TZID=UTC+0:20190425T190000
DTEND;TZID=UTC+0:20190425T220000
DTSTAMP:20260420T043707
CREATED:20190403T102812Z
LAST-MODIFIED:20190501T105614Z
UID:4571-1556218800-1556229600@thepeoplespeak.org.uk
SUMMARY:Talkaoke: The Tommy Flowers #9
DESCRIPTION:Another enjoyable evening at The Tommy Flowers community pub on Aberfeldy Street\, Poplar. \n \n			\n			\n			\n				\n				\n				‹\n				›\n				×\n				\n				\n				\n					\n						\n							\n								×\n								\n							\n							\n							\n								\n									\n									Previous								\n								\n									Next									\n								\n							\n						\n					\n				\n			\n			\n			jQuery(function() {\n				// Set blueimp gallery options\n				jQuery.extend(blueimp.Gallery.prototype.options\, {\n					useBootstrapModal: false\,\n					hidePageScrollbars: false\n				});\n			});\n			\n			\n
URL:https://thepeoplespeak.org.uk/event/talkaoke-the-tommy-flowers-9/
LOCATION:50 Aberfeldy Street\, London\, E14 0NU\, United Kingdom
CATEGORIES:Past Events,Talkaoke
ATTACH;FMTTYPE=image/jpeg:https://thepeoplespeak.org.uk/wp-content/uploads/2019/03/IMG_1641-small.jpg
END:VEVENT
END:VCALENDAR