BEGIN:VCALENDAR
VERSION:2.0
PRODID:-//The People Speak - ECPv4.6.11//NONSGML v1.0//EN
CALSCALE:GREGORIAN
METHOD:PUBLISH
X-WR-CALNAME:The People Speak
X-ORIGINAL-URL:https://thepeoplespeak.org.uk
X-WR-CALDESC:Events for The People Speak
BEGIN:VEVENT
DTSTART;TZID=UTC+0:20190328T190000
DTEND;TZID=UTC+0:20190328T220000
DTSTAMP:20260420T042929
CREATED:20190306T130406Z
LAST-MODIFIED:20190403T102623Z
UID:4560-1553799600-1553810400@thepeoplespeak.org.uk
SUMMARY:Talkaoke: The Tommy Flowers Pub #8
DESCRIPTION:Another fantastic Talkaoke session at The Tommy Flowers Pub in Poplar. \n \n
URL:https://thepeoplespeak.org.uk/event/talkaoke-the-tommy-flowers-8/
LOCATION:50 Aberfeldy Street\, London\, E14 0NU\, United Kingdom
CATEGORIES:Past Events,Talkaoke
ATTACH;FMTTYPE=image/jpeg:https://thepeoplespeak.org.uk/wp-content/uploads/2019/03/IMG_1641-small.jpg
END:VEVENT
END:VCALENDAR