BEGIN:VCALENDAR
VERSION:2.0
PRODID:-//The People Speak - ECPv4.6.11//NONSGML v1.0//EN
CALSCALE:GREGORIAN
METHOD:PUBLISH
X-WR-CALNAME:The People Speak
X-ORIGINAL-URL:https://thepeoplespeak.org.uk
X-WR-CALDESC:Events for The People Speak
BEGIN:VEVENT
DTSTART;TZID=UTC+0:20180707T120000
DTEND;TZID=UTC+0:20180708T180000
DTSTAMP:20260419T140909
CREATED:20180703T155144Z
LAST-MODIFIED:20180719T101014Z
UID:4451-1530964800-1531072800@thepeoplespeak.org.uk
SUMMARY:Talkaoke: The Newham Show 2018
DESCRIPTION:Talkaoke returned to Central Park\, East Ham\, for The Newham Show. \nClick here to view photos of the 2 days \n \n
URL:https://thepeoplespeak.org.uk/event/talkaoke-the-newham-show-2018/
LOCATION:East Ham\, London\, United Kingdom
CATEGORIES:Past Events,Talkaoke
ATTACH;FMTTYPE=image/jpeg:https://thepeoplespeak.org.uk/wp-content/uploads/2018/07/NSWebPage_480x250px.jpg
END:VEVENT
END:VCALENDAR