BEGIN:VCALENDAR
VERSION:2.0
PRODID:-//The People Speak - ECPv4.6.11//NONSGML v1.0//EN
CALSCALE:GREGORIAN
METHOD:PUBLISH
X-WR-CALNAME:The People Speak
X-ORIGINAL-URL:https://thepeoplespeak.org.uk
X-WR-CALDESC:Events for The People Speak
BEGIN:VEVENT
DTSTART;TZID=UTC+0:20170708T120000
DTEND;TZID=UTC+0:20170709T170000
DTSTAMP:20260424T163142
CREATED:20170724T114653Z
LAST-MODIFIED:20170724T114653Z
UID:4239-1499515200-1499619600@thepeoplespeak.org.uk
SUMMARY:Talkaoke: The Mayor's Newham Show 2017
DESCRIPTION:Talkaoke returned to Central Park\, East Ham\, for The Mayor’s Newham Show 2017. As with last year\, we had a great chat with people over the two days on a whole range of different subjects\, showing the wonderful diversity and different cultures that the borough of Newham has to offer. \n \nClick here to view the photos \n
URL:https://thepeoplespeak.org.uk/event/talkaoke-the-mayors-newham-show-2017/
LOCATION:East Ham\, London\, United Kingdom
CATEGORIES:Past Events,Talkaoke
ATTACH;FMTTYPE=image/jpeg:https://thepeoplespeak.org.uk/wp-content/uploads/2017/07/MayorsNewhamShow2017.jpg
END:VEVENT
END:VCALENDAR