BEGIN:VCALENDAR
VERSION:2.0
PRODID:-//The People Speak - ECPv4.6.11//NONSGML v1.0//EN
CALSCALE:GREGORIAN
METHOD:PUBLISH
X-WR-CALNAME:The People Speak
X-ORIGINAL-URL:https://thepeoplespeak.org.uk
X-WR-CALDESC:Events for The People Speak
BEGIN:VEVENT
DTSTART;VALUE=DATE:20180714
DTEND;VALUE=DATE:20180715
DTSTAMP:20260419T121923
CREATED:20200513T185700Z
LAST-MODIFIED:20200513T185700Z
UID:4902-1531526400-1531612799@thepeoplespeak.org.uk
SUMMARY:Talkaoke: Thamesmead 50th Birthday Festival
DESCRIPTION:Talkaoke helped celebrate Thamesmead’s 50th Birthday\, around Southmere Lake. \n			\n			\n			\n				\n				\n				‹\n				›\n				×\n				\n				\n				\n					\n						\n							\n								×\n								\n							\n							\n							\n								\n									\n									Previous								\n								\n									Next									\n								\n							\n						\n					\n				\n			\n			\n			jQuery(function() {\n				// Set blueimp gallery options\n				jQuery.extend(blueimp.Gallery.prototype.options\, {\n					useBootstrapModal: false\,\n					hidePageScrollbars: false\n				});\n			});\n			\n			\n
URL:https://thepeoplespeak.org.uk/event/talkaoke-thamesmead-50th-birthday-festival/
CATEGORIES:Past Events,Talkaoke
ATTACH;FMTTYPE=image/jpeg:https://thepeoplespeak.org.uk/wp-content/uploads/2020/05/43458031122_0e63a6d7a3.jpg
END:VEVENT
END:VCALENDAR