BEGIN:VCALENDAR
VERSION:2.0
PRODID:-//The People Speak - ECPv4.6.11//NONSGML v1.0//EN
CALSCALE:GREGORIAN
METHOD:PUBLISH
X-WR-CALNAME:The People Speak
X-ORIGINAL-URL:https://thepeoplespeak.org.uk
X-WR-CALDESC:Events for The People Speak
BEGIN:VEVENT
DTSTART;TZID=UTC+0:20130906T180000
DTEND;TZID=UTC+0:20130914T200059
DTSTAMP:20260424T153536
CREATED:20130904T122515Z
LAST-MODIFIED:20130906T134148Z
UID:3423-1378490400-1379188859@thepeoplespeak.org.uk
SUMMARY:Talkaoke: Thames Festival\, with National Theatre
DESCRIPTION: \n  \n  \nTalkaoke will be joining in the celebrations of this years Thames Festival with National Theatre. Every Friday & Saturday for 2 weeks Talkaoke will be on the south bank next to the National Theatre’s Propstore Bar. \nEveryone is free to come down and join in the conversation on the table of chat. \n  \n  \nDates: \n   –   Friday 6th Sept\, 6pm til 10pm \n   –   Saturday 7th Sept\, 3pm til 8pm \n   –   Friday 13th Sept\, 6pm til 10pm \n   –   Saturday 14th Sept\, 3pm til 8pm \n  \nAbout the festival \nRunning Friday 6 – Sunday 15 September 2013 The Mayor’s Thames Festival is set to stage an inspiring 10-day celebration of London’s iconic river through art\, music\, and educational events both on the water and along its banks and bridges. \nFor the first time\, the festival will extend beyond its usual concentrated weekend of riverside animations to a wider season of bespoke programming – creative new commissions\, river events\, and many activities to connect\, involve\, inspire and entice people down to the river and onto its waters. \n
URL:https://thepeoplespeak.org.uk/event/talkaoke-thames-festival-week-with-national-theatre/
LOCATION:South Bank\, London\, SE1 9PX\, United Kingdom
CATEGORIES:Talkaoke
END:VEVENT
END:VCALENDAR