BEGIN:VCALENDAR
VERSION:2.0
PRODID:-//The People Speak - ECPv4.6.11//NONSGML v1.0//EN
CALSCALE:GREGORIAN
METHOD:PUBLISH
X-WR-CALNAME:The People Speak
X-ORIGINAL-URL:https://thepeoplespeak.org.uk
X-WR-CALDESC:Events for The People Speak
BEGIN:VEVENT
DTSTART;VALUE=DATE:20140808
DTEND;VALUE=DATE:20140811
DTSTAMP:20260424T204932
CREATED:20140728T150830Z
LAST-MODIFIED:20140828T112054Z
UID:3733-1407456000-1407715199@thepeoplespeak.org.uk
SUMMARY:Talkaoke: Supernormal 2014
DESCRIPTION:Talkaoke traveled once again to Braziers Park in Oxfordshire for two days of festival excitement at Supernormal\, running sessions on both the Friday and Sunday. Visit the Festival website for more information on Supernormal \nClick Here to Watch the videos \nSupernormal is a festival like no other\, providing a powerful antidote to the current malaise of festivals-as-big-business. Blurring the boundaries between art and music\, performer and audience\, it champions the iconoclastic and the experimental\, allowing risks to be taken and leaps of imagination to occur. Somewhere in spirit between the original Glastonbury Fayre and an eccentric village fete\, Supernormal is the alternative’s alternative. \n
URL:https://thepeoplespeak.org.uk/event/talkaoke-supernormal-2014/
LOCATION:Ipsden\, Wallingford\, Oxfordshire\, OX10 6AN\, United Kingdom
CATEGORIES:Talkaoke
ATTACH;FMTTYPE=image/jpeg:https://thepeoplespeak.org.uk/wp-content/uploads/2014/07/supernormal01.jpg
END:VEVENT
END:VCALENDAR