BEGIN:VCALENDAR
VERSION:2.0
PRODID:-//The People Speak - ECPv4.6.11//NONSGML v1.0//EN
CALSCALE:GREGORIAN
METHOD:PUBLISH
X-WR-CALNAME:The People Speak
X-ORIGINAL-URL:https://thepeoplespeak.org.uk
X-WR-CALDESC:Events for The People Speak
BEGIN:VEVENT
DTSTART;TZID=UTC+0:20140914T160000
DTEND;TZID=UTC+0:20140914T200000
DTSTAMP:20260424T235958
CREATED:20140928T173828Z
LAST-MODIFIED:20140928T173849Z
UID:3755-1410710400-1410724800@thepeoplespeak.org.uk
SUMMARY:Talkaoke: Sunday Papers Live
DESCRIPTION:In the gardens of Cecil Sharp House\, Primrose Hill\, Talkaoke chatted with visitors and speakers to Sunday\nPapers Live. Some of the topics discussed were the imminent vote for Scottish independence\, the taboo on being nude in public\, inequality in the world and feminism. \nClick here to watch the videos \nClick here to see the photos from the event on our Flickr page \n
URL:https://thepeoplespeak.org.uk/event/talkaoke-sunday-papers-live/
LOCATION:﻿2 Regent's Park Road\, London\, NW1 7AY\, United Kingdom
ATTACH;FMTTYPE=image/png:https://thepeoplespeak.org.uk/wp-content/uploads/2014/03/a327da_15d02ba98acf4f278cdf713843d0569b.png_srz_p_818_223_75_22_0.50_1.20_0.00_png_srz.png
END:VEVENT
END:VCALENDAR