BEGIN:VCALENDAR
VERSION:2.0
PRODID:-//The People Speak - ECPv4.6.11//NONSGML v1.0//EN
CALSCALE:GREGORIAN
METHOD:PUBLISH
X-WR-CALNAME:The People Speak
X-ORIGINAL-URL:https://thepeoplespeak.org.uk
X-WR-CALDESC:Events for The People Speak
BEGIN:VEVENT
DTSTART;TZID=UTC+0:20160826T170000
DTEND;TZID=UTC+0:20160826T210000
DTSTAMP:20260425T104315
CREATED:20160831T133726Z
LAST-MODIFIED:20160831T133726Z
UID:4058-1472230800-1472245200@thepeoplespeak.org.uk
SUMMARY:Talkaoke: Summer Night Lights\, Swan Mead Park
DESCRIPTION:Talkaoke was in Swan Mead Park in Vange\, Essex\, for the first addition of ‘Summer Night Lights’. Talkaoke was part of an array of activities taking place for all the family. \nClick here to view the videos \nClick here to view the photos  \n
URL:https://thepeoplespeak.org.uk/event/talkaoke-summer-night-lights-swan-mead-park/
LOCATION:Church Road\, Basildon\, SS14 2EU\, United Kingdom
CATEGORIES:Past Events,Talkaoke
ATTACH;FMTTYPE=image/jpeg:https://thepeoplespeak.org.uk/wp-content/uploads/2016/08/Summer-Night-Lights-cut3-e1472652242968.jpg
END:VEVENT
END:VCALENDAR