BEGIN:VCALENDAR
VERSION:2.0
PRODID:-//The People Speak - ECPv4.6.11//NONSGML v1.0//EN
CALSCALE:GREGORIAN
METHOD:PUBLISH
X-WR-CALNAME:The People Speak
X-ORIGINAL-URL:https://thepeoplespeak.org.uk
X-WR-CALDESC:Events for The People Speak
BEGIN:VEVENT
DTSTART;TZID=UTC+0:20120510T193000
DTEND;TZID=UTC+0:20120510T213059
DTSTAMP:20260425T021524
CREATED:20120417T142940Z
LAST-MODIFIED:20120417T142940Z
UID:2819-1336678200-1336685459@thepeoplespeak.org.uk
SUMMARY:Talkaoke Studio Session no. 38
DESCRIPTION:Our host training sessions return a bit earlier this month at our nerve centre in Shoreditch. As always it’s a very relaxed occasion of fun and discussion. \n  \n
URL:https://thepeoplespeak.org.uk/event/talkaoke-studio-session-no-38-2/
END:VEVENT
END:VCALENDAR