BEGIN:VCALENDAR
VERSION:2.0
PRODID:-//The People Speak - ECPv4.6.11//NONSGML v1.0//EN
CALSCALE:GREGORIAN
METHOD:PUBLISH
X-WR-CALNAME:The People Speak
X-ORIGINAL-URL:https://thepeoplespeak.org.uk
X-WR-CALDESC:Events for The People Speak
BEGIN:VEVENT
DTSTART;TZID=UTC+0:20120329T193000
DTEND;TZID=UTC+0:20120329T223059
DTSTAMP:20260425T033756
CREATED:20120229T140401Z
LAST-MODIFIED:20120410T145002Z
UID:2632-1333049400-1333060259@thepeoplespeak.org.uk
SUMMARY:Talkaoke Studio Session no. 37
DESCRIPTION:The chat continues at our monthly Talkaoke Studio Sessions where we try out new and promising hosts and top up the skills of our current ones. The conversation started of quite deep along the themes of religion and belief before moving on the much more comical things like fishing and sex\, as well as evil professions. \nIn a hilarious moment\, the participants of Talkaoke tried to work out what to do with Â£15 which had been found lying on the floor. After much debate\, it was randomly decided to hand it to the 4th person walking past the studio. \nClick Here to watch the video \n
URL:https://thepeoplespeak.org.uk/event/talkaoke-studio-session-no-37/
CATEGORIES:Past Events
END:VEVENT
END:VCALENDAR