BEGIN:VCALENDAR
VERSION:2.0
PRODID:-//The People Speak - ECPv4.6.11//NONSGML v1.0//EN
CALSCALE:GREGORIAN
METHOD:PUBLISH
X-WR-CALNAME:The People Speak
X-ORIGINAL-URL:https://thepeoplespeak.org.uk
X-WR-CALDESC:Events for The People Speak
BEGIN:VEVENT
DTSTART;TZID=UTC+0:20150730T193000
DTEND;TZID=UTC+0:20150730T223000
DTSTAMP:20260425T124726
CREATED:20150702T143449Z
LAST-MODIFIED:20150812T094957Z
UID:3856-1438284600-1438295400@thepeoplespeak.org.uk
SUMMARY:Talkaoke: Studio Session 61
DESCRIPTION:Festival season is here as well as the construction of a new Talkaoke table\, but we still have time to put on our fun and dynamic studio sessions at our Cremer Street HQ. \nClick here to watch the video \n
URL:https://thepeoplespeak.org.uk/event/talkaoke-studio-session-61/
ATTACH;FMTTYPE=image/jpeg:https://thepeoplespeak.org.uk/wp-content/uploads/2012/03/INDSUT_TalkaokeLR_29151.jpg
END:VEVENT
END:VCALENDAR