BEGIN:VCALENDAR
VERSION:2.0
PRODID:-//The People Speak - ECPv4.6.11//NONSGML v1.0//EN
CALSCALE:GREGORIAN
METHOD:PUBLISH
X-WR-CALNAME:The People Speak
X-ORIGINAL-URL:https://thepeoplespeak.org.uk
X-WR-CALDESC:Events for The People Speak
BEGIN:VEVENT
DTSTART;TZID=UTC+0:20150326T193000
DTEND;TZID=UTC+0:20150326T223000
DTSTAMP:20260425T025521
CREATED:20150312T131548Z
LAST-MODIFIED:20150409T104931Z
UID:3800-1427398200-1427409000@thepeoplespeak.org.uk
SUMMARY:Talkaoke Studio Session 57
DESCRIPTION:Religion\, immigration\, emigration and language were just some of the topics discussed on the Talkaoke table at The People Speak headquarters. \nClick here to watch the video \n
URL:https://thepeoplespeak.org.uk/event/talkaoke-studio-session-57/
ATTACH;FMTTYPE=image/jpeg:https://thepeoplespeak.org.uk/wp-content/uploads/2015/02/IMG_9855.jpg
END:VEVENT
END:VCALENDAR