BEGIN:VCALENDAR
VERSION:2.0
PRODID:-//The People Speak - ECPv4.6.11//NONSGML v1.0//EN
CALSCALE:GREGORIAN
METHOD:PUBLISH
X-WR-CALNAME:The People Speak
X-ORIGINAL-URL:https://thepeoplespeak.org.uk
X-WR-CALDESC:Events for The People Speak
BEGIN:VEVENT
DTSTART;TZID=UTC+0:20150226T193000
DTEND;TZID=UTC+0:20150226T223000
DTSTAMP:20260425T013339
CREATED:20150217T162502Z
LAST-MODIFIED:20150304T190950Z
UID:3795-1424979000-1424989800@thepeoplespeak.org.uk
SUMMARY:Talkaoke: Studio Session 56
DESCRIPTION:We opened our doors once again for another Talkaoke studio session. Lots of topics were covered throughout the evening including\, will robots kill us\, not being on facebook\, immigration and being happy. \nWatch the video here \nClick here to see the Heckle Cloud \nClick here to view the photos \n
URL:https://thepeoplespeak.org.uk/event/talkaoke-studio-session-56/
CATEGORIES:Talkaoke
ATTACH;FMTTYPE=image/jpeg:https://thepeoplespeak.org.uk/wp-content/uploads/2015/02/IMG_9855.jpg
END:VEVENT
END:VCALENDAR