BEGIN:VCALENDAR
VERSION:2.0
PRODID:-//The People Speak - ECPv4.6.11//NONSGML v1.0//EN
CALSCALE:GREGORIAN
METHOD:PUBLISH
X-WR-CALNAME:The People Speak
X-ORIGINAL-URL:https://thepeoplespeak.org.uk
X-WR-CALDESC:Events for The People Speak
BEGIN:VEVENT
DTSTART;TZID=UTC+0:20140703T193000
DTEND;TZID=UTC+0:20140703T223000
DTSTAMP:20260424T173903
CREATED:20140602T152035Z
LAST-MODIFIED:20140711T173559Z
UID:3671-1404415800-1404426600@thepeoplespeak.org.uk
SUMMARY:Talkaoke Studio Session 53
DESCRIPTION:Back with another Talkaoke studio session\, the summer weather brought lots of people out and the chat followed. \nClick here to watch the video \n
URL:https://thepeoplespeak.org.uk/event/talkaoke-studio-session-53/
CATEGORIES:Past Events,Talkaoke
ATTACH;FMTTYPE=image/jpeg:https://thepeoplespeak.org.uk/wp-content/uploads/2012/03/MG_3334.jpg
END:VEVENT
END:VCALENDAR