BEGIN:VCALENDAR
VERSION:2.0
PRODID:-//The People Speak - ECPv4.6.11//NONSGML v1.0//EN
CALSCALE:GREGORIAN
METHOD:PUBLISH
X-WR-CALNAME:The People Speak
X-ORIGINAL-URL:https://thepeoplespeak.org.uk
X-WR-CALDESC:Events for The People Speak
BEGIN:VEVENT
DTSTART;TZID=UTC+0:20130131T193000
DTEND;TZID=UTC+0:20130131T223059
DTSTAMP:20260424T130846
CREATED:20130107T132152Z
LAST-MODIFIED:20130110T164752Z
UID:3065-1359660600-1359671459@thepeoplespeak.org.uk
SUMMARY:Talkaoke Studio Session 43
DESCRIPTION:Talkaoke celebrates it’s 16th Birthday as we host another studio session to keep the chat flowing and try out new hosts in the middle of the table. \n
URL:https://thepeoplespeak.org.uk/event/talkaoke-studio-session-43/
CATEGORIES:Talkaoke
END:VEVENT
END:VCALENDAR