BEGIN:VCALENDAR
VERSION:2.0
PRODID:-//The People Speak - ECPv4.6.11//NONSGML v1.0//EN
CALSCALE:GREGORIAN
METHOD:PUBLISH
X-WR-CALNAME:The People Speak
X-ORIGINAL-URL:https://thepeoplespeak.org.uk
X-WR-CALDESC:Events for The People Speak
BEGIN:VEVENT
DTSTART;TZID=UTC+0:20120927T193000
DTEND;TZID=UTC+0:20120927T223059
DTSTAMP:20260424T192724
CREATED:20120904T173927Z
LAST-MODIFIED:20120904T173927Z
UID:2973-1348774200-1348785059@thepeoplespeak.org.uk
SUMMARY:Talkaoke Studio Session 41
DESCRIPTION:After a busy August\, Talkaoke starts up its monthly studio sessions again where we try out potential new hosts in the middle of the table\, as well as giving additional training to some of our up and coming ones. \nThis is a free event. \n
URL:https://thepeoplespeak.org.uk/event/talkaoke-studio-session-41/
CATEGORIES:Talkaoke
END:VEVENT
END:VCALENDAR