BEGIN:VCALENDAR
VERSION:2.0
PRODID:-//The People Speak - ECPv4.6.11//NONSGML v1.0//EN
CALSCALE:GREGORIAN
METHOD:PUBLISH
X-WR-CALNAME:The People Speak
X-ORIGINAL-URL:https://thepeoplespeak.org.uk
X-WR-CALDESC:Events for The People Speak
BEGIN:VEVENT
DTSTART;TZID=UTC+0:20120718T193000
DTEND;TZID=UTC+0:20120718T223059
DTSTAMP:20260424T225713
CREATED:20120620T120559Z
LAST-MODIFIED:20120625T153029Z
UID:2913-1342639800-1342650659@thepeoplespeak.org.uk
SUMMARY:Talkaoke Studio Session 40
DESCRIPTION:Talkaoke reaches it’s 40th studio Session\, where we try out new hosts in a relaxed and friendly environment our Studio in Hoxton. Anyone and everyone are welcome to sit around the table of chat and join the discussion. This is a free event and if the weather is nice we will be setting up outside. \nn.b. This event has been moved forward from the normal Thursday to Wednesday night. \n
URL:https://thepeoplespeak.org.uk/event/talkaoke-studio-session-40/
CATEGORIES:Talkaoke
END:VEVENT
END:VCALENDAR