BEGIN:VCALENDAR
VERSION:2.0
PRODID:-//The People Speak - ECPv4.6.11//NONSGML v1.0//EN
CALSCALE:GREGORIAN
METHOD:PUBLISH
X-WR-CALNAME:The People Speak
X-ORIGINAL-URL:https://thepeoplespeak.org.uk
X-WR-CALDESC:Events for The People Speak
BEGIN:VEVENT
DTSTART;TZID=UTC+0:20120614T193000
DTEND;TZID=UTC+0:20120614T223059
DTSTAMP:20260425T003832
CREATED:20120528T132733Z
LAST-MODIFIED:20120528T132733Z
UID:2896-1339702200-1339713059@thepeoplespeak.org.uk
SUMMARY:Talkaoke Studio Session 39
DESCRIPTION:Our studio sessions are a great way to experience Talkaoke in a relaxed environment and have a fun discussion around the table of chat. It’s also an evening where we get to try out potential new hosts in the middle of the table as well as train some of our more establish hosts. \n
URL:https://thepeoplespeak.org.uk/event/talkaoke-studio-session-39/
CATEGORIES:Talkaoke
END:VEVENT
END:VCALENDAR