BEGIN:VCALENDAR
VERSION:2.0
PRODID:-//The People Speak - ECPv4.6.11//NONSGML v1.0//EN
CALSCALE:GREGORIAN
METHOD:PUBLISH
X-WR-CALNAME:The People Speak
X-ORIGINAL-URL:https://thepeoplespeak.org.uk
X-WR-CALDESC:Events for The People Speak
BEGIN:VEVENT
DTSTART;TZID=Europe/London:20180310T100000
DTEND;TZID=Europe/London:20180310T170000
DTSTAMP:20260419T224257
CREATED:20180302T160108Z
LAST-MODIFIED:20180302T181636Z
UID:4327-1520676000-1520701200@thepeoplespeak.org.uk
SUMMARY:Talkaoke: Southampton West Quay Shopping Centre
DESCRIPTION:Come see Talkaoke on the ground floor of West Quay Shopping Centre in Southampton on 10th March. We will be outside Carluccio’s from 10 to 5. The gig is sponsored by Southern Water. \nWe’ll also be visualising the chat live on the day. \n  \nPhoto of West Quay Shopping Centre by Jim Champion\nhttps://en.wikipedia.org/wiki/Westquay#/media/File:Westquay_arundel_circus_entrance.jpg\n
URL:https://thepeoplespeak.org.uk/event/talkaoke-southampton-west-quay-shopping-centre/
CATEGORIES:Talkaoke
ATTACH;FMTTYPE=image/jpeg:https://thepeoplespeak.org.uk/wp-content/uploads/2018/03/Westquay_arundel_circus_entrance.jpg
END:VEVENT
END:VCALENDAR