BEGIN:VCALENDAR
VERSION:2.0
PRODID:-//The People Speak - ECPv4.6.11//NONSGML v1.0//EN
CALSCALE:GREGORIAN
METHOD:PUBLISH
X-WR-CALNAME:The People Speak
X-ORIGINAL-URL:https://thepeoplespeak.org.uk
X-WR-CALDESC:Events for The People Speak
BEGIN:VEVENT
DTSTART;VALUE=DATE:20150828
DTEND;VALUE=DATE:20150830
DTSTAMP:20260425T115010
CREATED:20150818T124146Z
LAST-MODIFIED:20150904T180126Z
UID:3885-1440720000-1440892799@thepeoplespeak.org.uk
SUMMARY:Talkaoke: Shambala Festival 2015
DESCRIPTION:Talkaoke was at this years Shambala Festival\, in Northamptonshire\, for some festival excitement and discussion. \nShambala takes place across four days on the August Bank Holiday Weekend at a stunning secret location in the heart of the Northamptonshire countryside. The variety and quality of entertainment on offer is staggering for a festival of its size. With over 200 diverse musical acts across 12 live stages\, world-class cabaret\, an amazing array of workshops\, stand-up comedy\, inspirational talks and debates\, jaw dropping circus and acrobatics\, interactive theatre and nationally acclaimed poetry all housed in beautifully decorated venues. \nDay 1 \n \nDay 2\, Part 1 \n \nDay 2\, Part 2 \n \n
URL:https://thepeoplespeak.org.uk/event/talkaoke-shambala-festival-2/
LOCATION:Northamptonshire\, Northamptonshire\, United Kingdom
CATEGORIES:Talkaoke
ATTACH;FMTTYPE=image/png:https://thepeoplespeak.org.uk/wp-content/uploads/2015/08/shambala-festival2.png
END:VEVENT
END:VCALENDAR