BEGIN:VCALENDAR
VERSION:2.0
PRODID:-//The People Speak - ECPv4.6.11//NONSGML v1.0//EN
CALSCALE:GREGORIAN
METHOD:PUBLISH
X-WR-CALNAME:The People Speak
X-ORIGINAL-URL:https://thepeoplespeak.org.uk
X-WR-CALDESC:Events for The People Speak
BEGIN:VEVENT
DTSTART;VALUE=DATE:20171018
DTEND;VALUE=DATE:20171019
DTSTAMP:20260422T084832
CREATED:20171023T163622Z
LAST-MODIFIED:20171024T113056Z
UID:4279-1508284800-1508371199@thepeoplespeak.org.uk
SUMMARY:Talkaoke: Scottish National Gallery\, 2017
DESCRIPTION:As part of a five year tour of Constable’s Salisbury Cathedral from the Meadows 1831\, Talkaoke was at Scottish National Gallery\, in Edinburgh\, chatting with visitors and staff about the painting\, the gallery\, art in general and much more. \nRick was creating visuals live during the event\, CLICK HERE to view them. \nThis event was part of Aspire\, a partnership programme touring Salisbury Cathedral from the Meadows 1831 to five UK institutions. Aspire is supported by the Heritage Lottery Fund and the Art Fund. \n \n
URL:https://thepeoplespeak.org.uk/event/talkaoke-scottish-national-gallery-2017/
CATEGORIES:Past Events,Talkaoke
ATTACH;FMTTYPE=image/jpeg:https://thepeoplespeak.org.uk/wp-content/uploads/2014/08/Constable_Salisbury_meadows.jpg
END:VEVENT
END:VCALENDAR