BEGIN:VCALENDAR
VERSION:2.0
PRODID:-//The People Speak - ECPv4.6.11//NONSGML v1.0//EN
CALSCALE:GREGORIAN
METHOD:PUBLISH
X-WR-CALNAME:The People Speak
X-ORIGINAL-URL:https://thepeoplespeak.org.uk
X-WR-CALDESC:Events for The People Speak
BEGIN:VEVENT
DTSTART;TZID=UTC+0:20161116T130000
DTEND;TZID=UTC+0:20161116T230000
DTSTAMP:20260425T005936
CREATED:20161121T132629Z
LAST-MODIFIED:20161121T132629Z
UID:4157-1479301200-1479337200@thepeoplespeak.org.uk
SUMMARY:Talkaoke: RISING Global Peace Forum\, Coventry
DESCRIPTION:We did two Talkaoke sessions in Coventry City Centre for RISING Global Peace Forum\, the first of which was at Coventry Cathedral. RISING Global Peace Forum pushes forward new ways of thinking about peace and conflict in our turbulent world. \nPhotos from the two session can be found on our Flickr page \n \n \nThe second session was in Fargo Village. \n \n \n
URL:https://thepeoplespeak.org.uk/event/talkaoke-rising-global-peace-forum-coventry/
LOCATION:Coventry\, United Kingdom
CATEGORIES:Past Events,Talkaoke
ATTACH;FMTTYPE=image/jpeg:https://thepeoplespeak.org.uk/wp-content/uploads/2016/11/talkaoke-cov_cathedral.jpg
END:VEVENT
END:VCALENDAR