BEGIN:VCALENDAR
VERSION:2.0
PRODID:-//The People Speak - ECPv4.6.11//NONSGML v1.0//EN
CALSCALE:GREGORIAN
METHOD:PUBLISH
X-WR-CALNAME:The People Speak
X-ORIGINAL-URL:https://thepeoplespeak.org.uk
X-WR-CALDESC:Events for The People Speak
BEGIN:VEVENT
DTSTART;VALUE=DATE:20160725
DTEND;VALUE=DATE:20160726
DTSTAMP:20260425T103455
CREATED:20160804T130433Z
LAST-MODIFIED:20160804T131417Z
UID:4045-1469404800-1469491199@thepeoplespeak.org.uk
SUMMARY:Talkaoke: Rich Mix Youth Takeover Festival
DESCRIPTION:Talkaoke was at Rich Mix in Bethnal Green for Youth Takeover Festival. \nClick here to watch the video \n
URL:https://thepeoplespeak.org.uk/event/talkaoke-rich-mix-youth-takeover-festival/
LOCATION:35 - 47 Bethnal Green Road\, London\, E1 6LA\, United Kingdom
CATEGORIES:Talkaoke
ATTACH;FMTTYPE=image/jpeg:https://thepeoplespeak.org.uk/wp-content/uploads/2016/08/Boy-Blue-Credit-Belinda-Lawley.jpg
END:VEVENT
END:VCALENDAR