BEGIN:VCALENDAR
VERSION:2.0
PRODID:-//The People Speak - ECPv4.6.11//NONSGML v1.0//EN
CALSCALE:GREGORIAN
METHOD:PUBLISH
X-WR-CALNAME:The People Speak
X-ORIGINAL-URL:https://thepeoplespeak.org.uk
X-WR-CALDESC:Events for The People Speak
BEGIN:VEVENT
DTSTART;VALUE=DATE:20130809
DTEND;VALUE=DATE:20130811
DTSTAMP:20260424T111559
CREATED:20130722T150144Z
LAST-MODIFIED:20130808T152111Z
UID:3313-1376006400-1376179199@thepeoplespeak.org.uk
SUMMARY:Talkaoke at Supernormal Festival
DESCRIPTION:  \nWe are pleased to announce that TALKAOKE will be part of Supernormal Festival at Braziers Park during the first weekend of August.  Everyone is very welcome to come along and to join the conversation! \n  \n           –>  Talkaoke will be running on the Sunday only\n11th August 2013 – from 2.00 pm till late in the evening \n  \nABOUT THE FESTIVAL: \n \nSupernormal Festival provides a powerful antidote to the current malaise of festivals-as-big-business. Blurring the boundaries between art and music\, performer and audience\, it champions the iconoclastic and the experimental\, allowing risks to be taken and leaps of imagination to occur. Somewhere in spirit between the original Glastonbury Fayre and an eccentric village fete\, Supernormal is the alternative’s alternative.\nFor more information please visit the Supernormal Festival Website \n  \nABOUT TALKAOKE: \n \nTalkaoke is a pop up talk show that is has been gaining popularity in festivals\, clubs\, galleries\, conferences and on the street. it consists of an illuminated round table with a host sitting in the middle on a swivel chair. Participants sit around the outside and are passed the microphone whenever they want to talk\, coming and going as they please. Talkaoke is a great chance to hear the latest ideas that people are talking about and to generate and discover new ones\, it is free and open to everyone. Please\, find here a video of a previous session of Talkaoke at the National Theatre\, London: ‘Bullet Catch’ \n  \nKeep up with what is going on at The People Speak on Facebook and Twitter.\n \n \n
URL:https://thepeoplespeak.org.uk/event/talkaoke-residency-at-supernormal-festival/
LOCATION:Ipsden\, Wallingford\, Oxfordshire\, OX10 6AN\, United Kingdom
CATEGORIES:Talkaoke
ORGANIZER;CN="Supernormal%20Festival":MAILTO:info@supernormalfestival.co.uk
END:VEVENT
END:VCALENDAR