BEGIN:VCALENDAR
VERSION:2.0
PRODID:-//The People Speak - ECPv4.6.11//NONSGML v1.0//EN
CALSCALE:GREGORIAN
METHOD:PUBLISH
X-WR-CALNAME:The People Speak
X-ORIGINAL-URL:https://thepeoplespeak.org.uk
X-WR-CALDESC:Events for The People Speak
BEGIN:VEVENT
DTSTART;TZID=UTC+0:20250807T130000
DTEND;TZID=UTC+0:20250807T170000
DTSTAMP:20260419T142905
CREATED:20250527T170419Z
LAST-MODIFIED:20250527T170419Z
UID:7583-1754571600-1754586000@thepeoplespeak.org.uk
SUMMARY:Talkaoke Podcast & Radio Hosting Masterclass - Aberfeldy Stories
DESCRIPTION:We are teaming up with Spotlight youth club in Tower Hamlets to deliver a special young people’s summer session\, part of Aberfeldy Stories project.\n\nThe People Speak art collective from East London is inviting you to join Talkaoke – their pop up talk show where you are in charge of the conversation. Just take a seat around the glowing table of chat\, grab the mic and air your views. During this Masterclass Mikey and Margot will share creative communication skills useful in any situation: asking open questions\, usefulness of tangents\, exploration of assumptions\, dealing with opposing views\, active listening and how to generate ideas in a fun way!\n\n\n\nDuring the session you will\n\n– boost your public speaking confidence\n– appreciate the skill of active listening\n– learn how to speak confidently on the mic\n– explore fun and creative ways of asking questions and linking different perspectives together\n\nWho is it for?\n\nFor anybody under 25 based in Tower Hamlets (especially the Aberfeldy area) interested in public speaking\, hosting a podcast or a radio show\, a panel talk\, carrying out interviews\, or hosting a Talkaoke talk show itself!\n\n\nHow do I book?\nPlease email Poppy at Spotlight poppy@wearespotlight.com\n\n\n
URL:https://thepeoplespeak.org.uk/event/talkaoke-podcast-radio-hosting-masterclass-aberfeldy-stories/
CATEGORIES:Talkaoke
ATTACH;FMTTYPE=image/jpeg:https://thepeoplespeak.org.uk/wp-content/uploads/2025/04/54061879050_b3ee0b78f0_k.jpg
END:VEVENT
END:VCALENDAR