BEGIN:VCALENDAR
VERSION:2.0
PRODID:-//The People Speak - ECPv4.6.11//NONSGML v1.0//EN
CALSCALE:GREGORIAN
METHOD:PUBLISH
X-WR-CALNAME:The People Speak
X-ORIGINAL-URL:https://thepeoplespeak.org.uk
X-WR-CALDESC:Events for The People Speak
BEGIN:VEVENT
DTSTART;VALUE=DATE:20151021
DTEND;VALUE=DATE:20151022
DTSTAMP:20260425T154425
CREATED:20151118T130338Z
LAST-MODIFIED:20151118T130338Z
UID:3914-1445385600-1445471999@thepeoplespeak.org.uk
SUMMARY:Talkaoke: Pendle Youth Council
DESCRIPTION:In association with In-Situ\, Talkaoke was at Pendle Youth Council\, Democracy Week Event. Brierfield Young People’s Centre. \nClick here to watch the video \n
URL:https://thepeoplespeak.org.uk/event/talkaoke-pendle-youth-council/
LOCATION:United Kingdom
ATTACH;FMTTYPE=image/jpeg:https://thepeoplespeak.org.uk/wp-content/uploads/2015/11/talkaoke-2015-10-14-pendle_youth_council-h264_000570.jpg
END:VEVENT
END:VCALENDAR