BEGIN:VCALENDAR
VERSION:2.0
PRODID:-//The People Speak - ECPv4.6.11//NONSGML v1.0//EN
CALSCALE:GREGORIAN
METHOD:PUBLISH
X-WR-CALNAME:The People Speak
X-ORIGINAL-URL:https://thepeoplespeak.org.uk
X-WR-CALDESC:Events for The People Speak
BEGIN:VEVENT
DTSTART;TZID=UTC+0:20240224T093000
DTEND;TZID=UTC+0:20240224T120000
DTSTAMP:20260419T202405
CREATED:20240117T221446Z
LAST-MODIFIED:20240117T221446Z
UID:7008-1708767000-1708776000@thepeoplespeak.org.uk
SUMMARY:Talkaoke outside at Green Light\, Thurrock
DESCRIPTION:\nOur glowing doughnut of chat – Talkaoke is coming to Thurrock and you’re invited! \nWhat is Talkaoke?\nTalkaoke is an interactive talk-show\, where you decide on the subjects. Just grab the mic and have your say! Each discussion is a journey from one unexpected subject to another: it can be topical\, funny\, deep\, surreal\, and everything in between. The format is simple: the Talkaoke host sits in the middle of a doughnut-shaped table and passes the mic around\, inviting contributions and comments from each participant. Talkaoke host stimulates the collective imagination of the participants by expertly linking themes and opposing points of the conversation. Talkaoke is a great way to hear the latest ideas people are excited about and creatively develop new ones. \nAbout Start Thurrock \nWe have a vision where more people in Thurrock can enjoy and participate in arts and cultural activity in their local area. We all have a story to tell\, and a part to play. We want to give every person in Thurrock the chance and space to express themselves\, and enjoy that feeling\, together. We want our spaces to express our cultures. Our towns to be more connected and creative. We want our joy and energy to reach every town\, every family and every person. \nGet involved and help us shape our creative activities and events in Thurrock. You are creative. You are cultural. You are Thurrock. Start Thurrock is a Creative People and Places programme funded by Arts Council England. \n\n \n
URL:https://thepeoplespeak.org.uk/event/talkaoke-outside-at-green-light-thurrock/
ATTACH;FMTTYPE=image/jpeg:https://thepeoplespeak.org.uk/wp-content/uploads/2021/07/41654632712_48b2ffdb8d_c.jpg
END:VEVENT
END:VCALENDAR