BEGIN:VCALENDAR
VERSION:2.0
PRODID:-//The People Speak - ECPv4.6.11//NONSGML v1.0//EN
CALSCALE:GREGORIAN
METHOD:PUBLISH
X-WR-CALNAME:The People Speak
X-ORIGINAL-URL:https://thepeoplespeak.org.uk
X-WR-CALDESC:Events for The People Speak
BEGIN:VEVENT
DTSTART;TZID=UTC+0:20140712T120000
DTEND;TZID=UTC+0:20140712T170000
DTSTAMP:20260424T185553
CREATED:20140711T131108Z
LAST-MODIFIED:20140722T111054Z
UID:3698-1405166400-1405184400@thepeoplespeak.org.uk
SUMMARY:Talkaoke: Munch The Peckham Festival
DESCRIPTION:Talkaoke travelled to Peckham for an afternoon of Festival excitement at MUNCH. \nClick here to watch the videos \nMUNCH – The Peckham Festival of Food And Culture brings together diverse partners from foodie\, cultural and community organisations from the local area and wider London for a celebration exploding out from a festival hub\, market and bar on Holly Grove across the high streets of Central Peckham. Expect to shop\, eat\, watch\, listen and participate in all sorts of foodie and cultural treats\, and in doing so\, to explore and discover all that Peckham has to offer. \nVisit MUNCH website for more information. \n
URL:https://thepeoplespeak.org.uk/event/talkaoke-munch-the-peckham-festival/
LOCATION:Peckham Rye\, London\, United Kingdom
ATTACH;FMTTYPE=image/jpeg:https://thepeoplespeak.org.uk/wp-content/uploads/2014/07/munch_2014_front_screen.jpg
END:VEVENT
END:VCALENDAR