BEGIN:VCALENDAR
VERSION:2.0
PRODID:-//The People Speak - ECPv4.6.11//NONSGML v1.0//EN
CALSCALE:GREGORIAN
METHOD:PUBLISH
X-WR-CALNAME:The People Speak
X-ORIGINAL-URL:https://thepeoplespeak.org.uk
X-WR-CALDESC:Events for The People Speak
BEGIN:VEVENT
DTSTART;VALUE=DATE:20181028
DTEND;VALUE=DATE:20181029
DTSTAMP:20260419T215917
CREATED:20181102T162302Z
LAST-MODIFIED:20181102T162302Z
UID:4528-1540684800-1540771199@thepeoplespeak.org.uk
SUMMARY:Talkaoke: Mozfest 2018
DESCRIPTION:Talkaoke was at Mozilla Festival (MozFest) 2018\, at Ravensbourne University\, Greenwich. \n28th October 2018 \n \n  \n
URL:https://thepeoplespeak.org.uk/event/talkaoke-mozfest-2018/
LOCATION:6 Penrose Way\, Greenwich Peninsula\,\, London\, SE10 0EW\, United Kingdom
CATEGORIES:Past Events,Talkaoke
ATTACH;FMTTYPE=image/png:https://thepeoplespeak.org.uk/wp-content/uploads/2018/11/mozfest-logo-2018.png
END:VEVENT
END:VCALENDAR